BEGIN:VCALENDAR
VERSION:2.0
PRODID:-//Sabrina Sturiale - ECPv6.15.18//NONSGML v1.0//EN
CALSCALE:GREGORIAN
METHOD:PUBLISH
X-WR-CALNAME:Sabrina Sturiale
X-ORIGINAL-URL:https://sabrinasturiale.it
X-WR-CALDESC:Eventi per Sabrina Sturiale
REFRESH-INTERVAL;VALUE=DURATION:PT1H
X-Robots-Tag:noindex
X-PUBLISHED-TTL:PT1H
BEGIN:VTIMEZONE
TZID:Europe/Rome
BEGIN:DAYLIGHT
TZOFFSETFROM:+0100
TZOFFSETTO:+0200
TZNAME:CEST
DTSTART:20250330T010000
END:DAYLIGHT
BEGIN:STANDARD
TZOFFSETFROM:+0200
TZOFFSETTO:+0100
TZNAME:CET
DTSTART:20251026T010000
END:STANDARD
BEGIN:DAYLIGHT
TZOFFSETFROM:+0100
TZOFFSETTO:+0200
TZNAME:CEST
DTSTART:20260329T010000
END:DAYLIGHT
BEGIN:STANDARD
TZOFFSETFROM:+0200
TZOFFSETTO:+0100
TZNAME:CET
DTSTART:20261025T010000
END:STANDARD
BEGIN:DAYLIGHT
TZOFFSETFROM:+0100
TZOFFSETTO:+0200
TZNAME:CEST
DTSTART:20270328T010000
END:DAYLIGHT
BEGIN:STANDARD
TZOFFSETFROM:+0200
TZOFFSETTO:+0100
TZNAME:CET
DTSTART:20271031T010000
END:STANDARD
END:VTIMEZONE
BEGIN:VEVENT
DTSTART;TZID=Europe/Rome:20260321T203000
DTEND;TZID=Europe/Rome:20260321T213000
DTSTAMP:20260421T014359
CREATED:20260321T135257Z
LAST-MODIFIED:20260321T142124Z
UID:5761-1774125000-1774128600@sabrinasturiale.it
SUMMARY:Meditazione Equinozio di Primavera Online – Il Portale di Primavera
DESCRIPTION:Meditazione Equinozio di Primavera Online – Il Portale di Primavera\nIl Portale di Primavera è una meditazione equinozio di primavera online dedicata a uno dei momenti energetici più potenti dell’anno. \nL’Equinozio rappresenta un passaggio tra buio e luce\, tra ciò che si chiude e ciò che è pronto a rinascere. \nDurante questo incontro vivrai una meditazione canalizzata guidata e un rituale simbolico di rinascita\, per lasciare andare il vecchio e aprirti alle nuove energie del ciclo che inizia. \nCosa vivrai durante l’incontro\n🌿 meditazione canalizzata guidata🌱 rituale simbolico di rinascita✨ connessione con le energie del nuovo ciclo \nUn momento per ritrovare centratura\, chiarezza e connessione interiore. \nDettagli dell’evento\nData: 21 Marzo 2026Orario: 20:30Modalità: Online (evento privato) \n👥 Gruppo ristretto per creare uno spazio intimo e autentico. \nCosa ti serve\n\nuna candela\nun foglio\nuna penna\n\nCome partecipare\nLa partecipazione è gratuita\, con posti limitati. \nPer ricevere il link di accesso scrivimi su whatsapp \n👉 349-07728178 \n✨ Se dopo l’incontro sentirai il desiderio di approfondire il tuo momento energetico\, scopri anche i miei percorsi e consulti personalizzati \n\n🔮 Sabrina Sturiale\nTi accompagno attraverso tarocchi intuitivi\, channeling e percorsi spirituali per aiutarti a fare chiarezza\, ritrovare il tuo centro e aprirti a nuove possibilità.
URL:https://sabrinasturiale.it/evento/meditazione-equinozio-primavera-online/
LOCATION:ON-LINE
ATTACH;FMTTYPE=image/png:https://sabrinasturiale.it/wp-content/uploads/2026/03/Portale-di-Primavera.png
ORGANIZER;CN="Sabrina Sturiale":MAILTO:INFO@SABRINASTURIALE.IT
END:VEVENT
BEGIN:VEVENT
DTSTART;TZID=Europe/Rome:20260327T203000
DTEND;TZID=Europe/Rome:20260327T220000
DTSTAMP:20260421T014359
CREATED:20260321T153753Z
LAST-MODIFIED:20260321T153753Z
UID:5771-1774643400-1774648800@sabrinasturiale.it
SUMMARY:Cielo Cristallo – Evento Channelling Angelico Casazza | 27 Marzo 2026
DESCRIPTION:Cielo Cristallo – Evento Channelling Angelico Casazza | 27 Marzo 2026\n✨ CIELO CRISTALLO – Messaggi dal Cielo \n\n\n\n\n\n\n\n\nQuesto evento di channelling angelico a Casazza è dedicato a chi desidera connettersi con il mondo spirituale e ricevere guida dai mondi di luce. \nUna serata speciale dove parole\, energia e intuizione si incontrano\, in uno spazio di ascolto profondo e connessione autentica. \nDurante l’incontro presenterò il mio libro Cielo Cristallo\, nato da esperienze vissute e messaggi ricevuti dai mondi di luce.Un viaggio che accompagna verso maggiore consapevolezza\, chiarezza e apertura interiore. \nMa questa non sarà solo una presentazione. \n🌟 Vivremo insieme un momento di Channelling Angelico dal vivo\, durante il quale sarà possibile ricevere messaggi\, intuizioni e guida dagli Angeli. \nUn’esperienza autentica e trasformativa\, pensata per chi sente il richiamo di qualcosa di più profondo e desidera riconnettersi con la propria anima. \n✨ Cosa vivrai durante la serata\n✨ un momento di connessione spirituale profonda✨ la presentazione del libro Cielo Cristallo✨ un’esperienza di channelling angelico dal vivo✨ la possibilità di ricevere un messaggio intuitivo \nIl libro Cielo Cristallo\nIl libro Cielo Cristallo \, edito da Om Edizioni\, sarà disponibile durante la serata e potrai ricevere una dedica personalizzata. \nUn’opportunità per portare con te uno strumento di connessione e crescita\, e continuare il tuo percorso anche dopo l’incontro. \nChi ti guiderà\nSabrina SturialeOperatrice olistica\, channeler\, medium\, tarologa e guida spirituale. \nDa anni accompagna le persone in percorsi di crescita interiore attraverso tarocchi intuitivi\, channelling e lavoro energetico. \nAutrice del libro Cielo Cristallo\, condivide messaggi e insegnamenti provenienti dai mondi di luce\, aiutando le persone a ritrovare chiarezza\, connessione e direzione nel proprio cammino. \n🔮 Instagram: @sabrina_intuizione_divina \n\n📍 Dettagli evento\n📅 27 Marzo 2026🕰 Ore 20:30 \n📍 Veronica Damiani & Co.Via Nazionale 98/CCasazza (BG) \n☎ Prenotazioni:342-6445900 – Francesca349-0772817 – Sabrina \n\n✨ Prenotazione consigliata \n👉 👉 Scopri anche le mie letture di tarocchi intuitivi e i percorsi spirituali
URL:https://sabrinasturiale.it/evento/cielo-cristallo-evento-channelling-angelico-casazza-27-marzo-2026/
LOCATION:Veronica Damiani & Co.\, Via Nazionale 98/C\, Casazza (BG)\, Italy
CATEGORIES:Angeli,Channelling,Libri
ATTACH;FMTTYPE=image/png:https://sabrinasturiale.it/wp-content/uploads/2026/03/cielo-cristallo-channelling-angelico-casazza.jpg.png
ORGANIZER;CN="Sabrina Sturiale":MAILTO:INFO@SABRINASTURIALE.IT
END:VEVENT
BEGIN:VEVENT
DTSTART;TZID=Europe/Rome:20260412T093000
DTEND;TZID=Europe/Rome:20260412T183000
DTSTAMP:20260421T014359
CREATED:20260307T202558Z
LAST-MODIFIED:20260321T143831Z
UID:5757-1775986200-1776018600@sabrinasturiale.it
SUMMARY:Komyo Reiki Do® - 2° Livello CHUDEN - Paderno Dugnano
DESCRIPTION:Komyo Reiki Do® – 2° Livello CHUDEN – Paderno Dugnano\nIl Komyo ReikiDo® è una tra le discipline Reiki più vicine al tradizionale insegnamento di Mikao Usui\, non solo per la stretta discendenza\, ma anche per la sua semplicità e potenza energetica che\, man mano\, si sprigiona praticando questa disciplina. \nArgomenti trattati durante il corso: \n\nUso comune dei simboli\nPrimo simbolo: spiegazione e utilizzo\nSecondo simbolo: spiegazione e utilizzo\nTerzo simbolo: spiegazione e utilizzo\nIl trattamento a distanza\nMetodi tradizionali: Tanden chiryo ho\, Koky ho\, Ghyoshi ho\,Heso chiryo ho\, Seiheki chiryo ho\nTecniche tradizionali: Uchite chiryo ho\, Nadete chiryo ho\, Oshite chiryo ho\, Zenshin kekko (massaggio Reiki)\nShirushi e jumon spiegazione\nAlla fine del corso sarà rilasciato l’attestato di frequenza originale Komyo ReikiDo ed il manuale originale della scuola Komyo Reiki Kai Italia.\nDurante l’arco della giornata ricevi le 4 attivazioni di secondo livello \n\nAlla fine del corso sarà rilasciato l’attestato ufficiale di frequenza ed il manuale originale Komyo Reiki Kai Italia. \n\nN.B.\nE’ richiesto un acconto di € 50 a conferma iscrizione (non rimborsabili in caso di ritiro da parte dell’iscritto) \n  \nPer informazioni ed iscrizioni: tel. 349-0772817   oppure via mail a:    INFO@SABRINASTURIALE.IT \n  \n✨ Se dopo l’incontro sentirai il desiderio di approfondire il tuo momento energetico\, scopri anche i miei percorsi e consulti personalizzati \n  \nSabrina Sturiale\nTi accompagno attraverso tarocchi intuitivi\, channeling e percorsi spirituali per aiutarti a fare chiarezza\, ritrovare il tuo centro e aprirti a nuove possibilità. \n 
URL:https://sabrinasturiale.it/evento/komyo-reiki-do-2-livello-chuden-paderno-dugnano/
LOCATION:La Grotta di Luce\, Via Alessandro Coti Zelati\, 16\, Paderno Dugnano\, Italia
CATEGORIES:Corso Reiki,Reiki
ATTACH;FMTTYPE=image/png:https://sabrinasturiale.it/wp-content/uploads/2020/02/Logo-Komyo-1000x750-x-sito.png
ORGANIZER;CN="Sabrina Sturiale":MAILTO:INFO@SABRINASTURIALE.IT
END:VEVENT
BEGIN:VEVENT
DTSTART;TZID=Europe/Rome:20260426T093000
DTEND;TZID=Europe/Rome:20260426T183000
DTSTAMP:20260421T014359
CREATED:20260401T173413Z
LAST-MODIFIED:20260401T173413Z
UID:5793-1777195800-1777228200@sabrinasturiale.it
SUMMARY:Tra Cielo e Angeli - Casazza (Bg)
DESCRIPTION:Tra Cielo e Angeli – Casazza (Bg)\nTra Cielo e Angeli è un percorso di connessione spirituale dedicato a chi desidera avvicinarsi al mondo angelico in modo autentico\, guidato e profondo. \nAttraverso quattro incontri esperienziali\, il percorso accompagna la persona in uno spazio di ascolto interiore\, sensibilità e apertura\, favorendo una connessione più consapevole con il linguaggio sottile degli Angeli. \nNon si tratta solo di un momento formativo\, ma di un’esperienza interiore che invita a rallentare\, percepire\, ascoltare e lasciare emergere ciò che il mondo spirituale desidera trasmettere. \nIl percorso è pensato per chi sente un richiamo verso gli Angeli\, desidera approfondire la propria sensibilità spirituale e vivere un cammino in uno spazio protetto\, accogliente e guidato con presenza e consapevolezza. \nDate incontri: \n\n26 Aprile\n24 Maggio\n14 Giugno\n12 Luglio\n\nOrario: dalle ore 9.30 alle ore 18/18.30Luogo: Veronica Damiani & co – Casazza (Bg) \nPer informazioni e prenotazioni:342-6445900 / 349-0772817Instagram: @SabrinaIntuizioneDivina \n\nGli Angeli non sono mai stati così vicini.
URL:https://sabrinasturiale.it/evento/tra-cielo-e-angeli/
LOCATION:Veronica Damiani & Co.\, Via Nazionale 98/C\, Casazza (BG)\, Italy
CATEGORIES:Angeli,Channelling,Seminari Esperienziali
ATTACH;FMTTYPE=image/png:https://sabrinasturiale.it/wp-content/uploads/2026/04/angeli-Bergamo.png
ORGANIZER;CN="Sabrina Sturiale":MAILTO:INFO@SABRINASTURIALE.IT
END:VEVENT
END:VCALENDAR